Workbook

Sheet Водитель автобуса большой вмест
B2: Подведение итогов городского конкурса "Лучший водитель города Нижневартовска 2022 года"
A3: Номинация №1 "Водитель автобуса большой вместимости"
A4: Подведение итогов городского конкурса
A5: "Лучший водитель города Нижневартовска 2026 года"
A6: Номинация №1 "Водитель автобуса большой вместимости"
A8: № п/п | B8: ФИО участника | C8: Дата подачи заявки | D8: Дата рождения | E8: Паспортные данные | F8: Водительское удостоверение | G8: Телефон | H8: Прописка, регистрация | I8: Выписка из госуслуг, справка с работы | J8: Согласие на обработку персональных данных | K8: Подпись | L8: Информация о соответствии условиям п.4.2.2 Положения о проведении конкурса | M8: Информация о соответствии условиям п.4.2.3 Положения о проведении конкурса | N8: Баллы по выполнению III этапа конкурса | O8: Время 3 этап (мин) | P8: Баллы по выполнению IV этапа конкурса | Q8: Время 4 этап (мин) | R8: Итоговый балл | S8: Примечание
A9: 1 | B9: Гусейнли Нурлан Мансур оглы | L9: соответсвует | M9: соответсвует | N9: 3 | O9: 0.17708333 | P9: 38 | Q9: 7.32.62 | R9: =N9+P9 -> 41 | S9: 2 место
A10: 2 | B10: Атоев Акобирходжа Асходжаевич | L10: соответсвует | M10: соответсвует | N10: 5 | O10: 0.16875 | P10: 37 | Q10: 7.51.85 | R10: =N10+P10 -> 42 | S10: 1 место
A11: 3 | B11: Собиров Нурулло Ибрагимович | L11: соответсвует | M11: соответсвует | N11: не сдал | O11: - | P11: - | Q11: - | R11: -
A12: 4 | B12: Салиев Джамшед Джумаевич | L12: соответсвует | M12: соответсвует | N12: отсутствие | O12: - | P12: - | Q12: - | R12: -
A13: 5 | B13: Чуглаев Вячеслав Васильевич | L13: соответсвует | M13: соответсвует | N13: 6 | O13: 0.085416667 | P13: отсутствие | Q13: - | R13: -
A14: 6 | B14: Шакиров Хожиакбару Номанжанович | L14: соответсвует | M14: соответсвует | N14: не сдал | O14: - | P14: - | Q14: - | R14: -
A15: 7 | B15: Коляда Лев Олегович | L15: соответсвует | M15: соответсвует | N15: 4 | O15: 0.24097222 | P15: 28 | Q15: 17.30.29 | R15: =N15+P15 -> 32 | S15: 3 место
A18: 12 | R18: -
A19: 13 | R19: -
A20: 14 | R20: -
A21: 15 | R21: -
A22: 16 | R22: -
A23: 17 | R23: =N23+P23 -> 0
A24: 18 | R24: -
A25: 19 | R25: -
A26: 20 | R26: -
A27: 21 | R27: -
A28: 22 | R28: -
A29: 23 | R29: -
B31: 1 место - | L31: =B10 -> Атоев Акобирходжа Асходжаевич
B32: 2 место - | L32: =B9 -> Гусейнли Нурлан Мансур оглы
B33: 3 место - | L33: =B15 -> Коляда Лев Олегович
R34: А.Н. Боков
R36: А.Ф Хасанов
R38: К.Н. Григорьев
R40: А.С. Бровков
R42: С.В. Петрова
R44: Ж. Н.Карякина
R46: А.А. Ващук

Sheet Водитель личного транспорта
B1: Подведение итогов городского конкурса
B2: "Лучший водитель города Нижневартовска 2026 года"
A3: Номинация №2 "Водитель личного транспорта"
A5: № п/п | B5: ФИО участника | C5: Дата подачи заявки | D5: Дата рождения | E5: Паспортные данные | F5: Водительское удостоверение | G5: Телефон | H5: Прописка, регистрация | I5: Выписка из госуслуг | J5: Согласие на обработку персональных данных | K5: Подпись | L5: Информация о соответствии условиям п.4.2.2 Положения о проведении конкурса | M5: Информация о соответствии условиям п.4.2.3 Положения о проведении конкурса | N5: Баллы по выполнению III этапа конкурса | O5: Время 3 этап (мин) | P5: Баллы по выполнению IV этапа конкурса | Q5: Время 4 этап (мин) | R5: Итоговый балл | S5: Примечание
A6: 1 | B6: Жалоба Иван Иванович | L6: соответсвует | M6: соответсвует | N6: 6 | O6: 0.092361111 | P6: 14 | Q6: 1.29.98 | R6: =N6+P6 -> 20 | S6: 1 место
A7: 2 | B7: Борисенко Николай Юрьевич | L7: соответсвует | M7: соответсвует | N7: 4 | O7: 0.13055556 | P7: 13.5 | Q7: 1.23.93 | R7: =N7+P7 -> 17.5 | S7: 3 место
A8: 3 | B8: Рангулов Ильсур Наилович | L8: соответсвует | M8: соответсвует | N8: 5 | O8: 0.10416667 | P8: 14.5 | Q8: 0.59.10 | R8: =N8+P8 -> 19.5 | S8: 2 место
A9: 4 | B9: Шипилов Владимир Владимирович | L9: соответсвует | M9: соответсвует | N9: отсутствие | O9: - | P9: - | Q9: - | R9: -
A10: 5 | B10: Кожевникова Анна Анатольевна | L10: соответсвует | M10: соответсвует | N10: не сдал | O10: - | P10: - | Q10: - | R10: -
A20: 13
A21: 14
A22: 15
A23: 16
A24: 17
A25: 18
B27: 1 место - | L27: =B6 -> Жалоба Иван Иванович
B28: 2 место - | L28: =B8 -> Рангулов Ильсур Наилович
B29: 3 место - | L29: =B7 -> Борисенко Николай Юрьевич
R30: ='Водитель автобуса большой вмест'!R34 -> А.Н. Боков
R32: ='Водитель автобуса большой вмест'!R36 -> А.Ф Хасанов
R34: ='Водитель автобуса большой вмест'!R38 -> К.Н. Григорьев
R36: ='Водитель автобуса большой вмест'!R40 -> А.С. Бровков
R38: ='Водитель автобуса большой вмест'!R42 -> С.В. Петрова
R40: ='Водитель автобуса большой вмест'!R44 -> Ж. Н.Карякина
R42: ='Водитель автобуса большой вмест'!R46 -> А.А. Ващук

Sheet Авто-Леди
B1: Подведение итогов городского конкурса
B2: "Лучший водитель города Нижневартовска 2026 года"
A3: Номинация №3 "АВТО-Леди"
A5: № п/п | B5: ФИО участника | C5: Дата подачи заявки | D5: Дата рождения | E5: Паспортные данные | F5: Водительское удостоверение | G5: Номер телефона | H5: Прописка, регистрация | I5: Выписка из госуслуг | J5: Согласие на обработку персональных данных | K5: Подпись | L5: Информация о соответствии условиям п.4.2.2 Положения о проведении конкурса | M5: Информация о соответствии условиям п.4.2.3 Положения о проведении конкурса | N5: Баллы по выполнению III этапа конкурса | O5: Время 3 этап (мин) | P5: Баллы по выполнению IV этапа конкурса | Q5: Время 4 этап (мин) | R5: Итоговый балл | S5: Примечание
A6: 1 | B6: Рангулова Лиана Галимовна | L6: соответствует | M6: соответсвует | N6: 5 | O6: 0.425 | P6: 15 | Q6: 1.37.98 | R6: =N6+P6 -> 20 | S6: 1 место
A7: 2 | B7: Балашова Светлана Леонидовна | L7: соответствует | M7: соответсвует | N7: 5 | O7: 0.12430556 | P7: 13.5 | Q7: 1.18.99 | R7: =N7+P7 -> 18.5
A8: 3 | B8: Косушко Евгения Вадимовна | L8: соответствует | M8: соответсвует | N8: 5 | O8: 0.14722222 | P8: 15 | Q8: 1.46.40 | R8: =N8+P8 -> 20 | S8: 2 место
A9: 4 | B9: Железняк Елена Сергеевна | L9: соответствует | M9: соответсвует | N9: 6 | O9: 0.090972222 | P9: 13 | Q9: 1.38.22 | R9: =N9+P9 -> 19 | S9: 3 место
B17: 1 место - | L17: =B6 -> Рангулова Лиана Галимовна
B18: 2 место - | L18: Косушко Евгения Вадимовна
B19: 3 место - | L19: Железняк Елена Сергеевна
R21: ='Водитель автобуса большой вмест'!R34 -> А.Н. Боков
R23: ='Водитель автобуса большой вмест'!R36 -> А.Ф Хасанов
R25: ='Водитель автобуса большой вмест'!R38 -> К.Н. Григорьев
R27: ='Водитель автобуса большой вмест'!R40 -> А.С. Бровков
R29: ='Водитель автобуса большой вмест'!R42 -> С.В. Петрова
R31: ='Водитель автобуса большой вмест'!R44 -> Ж. Н.Карякина
R33: ='Водитель автобуса большой вмест'!R46 -> А.А. Ващук

Sheet Выпускник автошколы
B1: Подведение итогов городского конкурса
B2: "Лучший водитель города Нижневартовска 2026 года"
A3: Номинация №4 "Выпускник автошколы"
A5: № п/п | B5: ФИО участника | C5: Дата подачи заявки | D5: Дата рождения | E5: Паспортные данные | F5: Водительское удостоверение | G5: Номер телефона | H5: Прописка, регистрация | I5: Выписка из госуслуг | J5: Согласие на обработку персональных данных | K5: Подпись | L5: Информация о соответствии условиям п.4.2.2 Положения о проведении конкурса | M5: Информация о соответствии условиям п.4.2.3 Положения о проведении конкурса | N5: Баллы по выполнению III этапа конкурса | O5: Время 3 этап (мин) | P5: Баллы по выполнению IV этапа конкурса | Q5: Время 4 этап (мин) | R5: Итоговый балл | S5: Примечание
A6: 1 | N6: - | O6: - | P6: - | Q6: - | R6: - | S6: -
B10: Заявки не поступали
B11: Победители не определены
R14: ='Водитель автобуса большой вмест'!R34 -> А.Н. Боков
R16: ='Водитель автобуса большой вмест'!R36 -> А.Ф Хасанов
R18: ='Водитель автобуса большой вмест'!R38 -> К.Н. Григорьев
R20: ='Водитель автобуса большой вмест'!R40 -> А.С. Бровков
R22: ='Водитель автобуса большой вмест'!R42 -> С.В. Петрова
R24: ='Водитель автобуса большой вмест'!R44 -> Ж. Н.Карякина
R26: ='Водитель автобуса большой вмест'!R46 -> А.А. Ващук

Sheet Инструктор автошколы
B1: Подведение итогов городского конкурса
B2: "Лучший водитель города Нижневартовска 2026 года"
A3: Номинация №5 "Инструктор автошколы"
A5: № п/п | B5: ФИО участника | C5: Дата подачи заявки | D5: Дата рождения | E5: Паспортные данные | F5: Водительское удостоверение | G5: Номер телефона | H5: Прописка, регистрация | I5: Выписка из госуслуг | J5: Согласие на обработку персональных данных | K5: Подпись | L5: Информация о соответствии условиям п.4.2.2 Положения о проведении конкурса | M5: Информация о соответствии условиям п.4.2.3 Положения о проведении конкурса | N5: Баллы по выполнению III этапа конкурса | O5: Время 3 этап (мин) | P5: Баллы по выполнению IV этапа конкурса | Q5: Время 4 этап (мин) | R5: Итоговый балл | S5: Примечание
A6: 1 | B6: Попиков Денис Станиславович | L6: соответсвует | M6: соответсвует | N6: 5 | O6: 0.10486111 | P6: 14.5 | Q6: 1.13.32 | R6: =N6+P6 -> 19.5 | S6: 2 место
A7: 2 | B7: Григорьев Павел Юрьевич | L7: соответсвует | M7: соответсвует | N7: 6 | O7: 0.049305556 | P7: 17.5 | Q7: 1.26.13 | R7: =N7+P7 -> 23.5 | S7: 1 место
A10: 6
A11: 7
A12: 8
A13: 9
A14: 10
B16: 1 место - | L16: =B7 -> Григорьев Павел Юрьевич
B17: 2 место - | L17: =B6 -> Попиков Денис Станиславович
B18: 3 место - | L18: не определено
R20: ='Водитель автобуса большой вмест'!R34 -> А.Н. Боков
R22: ='Водитель автобуса большой вмест'!R36 -> А.Ф Хасанов
R24: ='Водитель автобуса большой вмест'!R38 -> К.Н. Григорьев
R26: ='Водитель автобуса большой вмест'!R40 -> А.С. Бровков
R28: ='Водитель автобуса большой вмест'!R42 -> С.В. Петрова
R30: ='Водитель автобуса большой вмест'!R44 -> Ж. Н.Карякина
R32: ='Водитель автобуса большой вмест'!R46 -> А.А. Ващук

Sheet Водитель мотоцикла
B1: Подведение итогов городского конкурса
B2: "Лучший водитель города Нижневартовска 2026 года"
A3: Номинация №6 "Водитель мотоцикла"
A5: № п/п | B5: ФИО участника | C5: Дата подачи заявки | D5: Дата рождения | E5: Паспортные данные | F5: Водительское удостоверение | G5: Номер телефона | H5: Прописка, регистрация | I5: Выписка из госуслуг | J5: Согласие на обработку персональных данных | K5: Подпись | L5: Информация о соответствии условиям п.4.2.2 Положения о проведении конкурса | M5: Информация о соответствии условиям п.4.2.3 Положения о проведении конкурса | N5: Баллы по выполнению III этапа конкурса | O5: Время 3 этап (мин) | P5: Баллы по выполнению IV этапа конкурса | Q5: Время 4 этап (мин) | R5: Итоговый балл | S5: Примечание
B6: - | C6: - | D6: - | E6: - | F6: - | G6: - | H6: - | I6: - | J6: - | K6: - | L6: - | M6: - | N6: - | O6: - | P6: - | Q6: - | R6: - | S6: -
B8: Заявки не поступали
B9: Победители не определены
R11: ='Водитель автобуса большой вмест'!R34 -> А.Н. Боков
R13: ='Водитель автобуса большой вмест'!R36 -> А.Ф Хасанов
R15: ='Водитель автобуса большой вмест'!R38 -> К.Н. Григорьев
R17: ='Водитель автобуса большой вмест'!R40 -> А.С. Бровков
R19: ='Водитель автобуса большой вмест'!R42 -> С.В. Петрова
R21: ='Водитель автобуса большой вмест'!R44 -> Ж. Н.Карякина
R23: ='Водитель автобуса большой вмест'!R46 -> А.А. Ващук
